BEGIN:VCALENDAR
VERSION:2.0
PRODID:-//The Dental Lab - ECPv6.15.5//NONSGML v1.0//EN
CALSCALE:GREGORIAN
METHOD:PUBLISH
X-WR-CALNAME:The Dental Lab
X-ORIGINAL-URL:https://thedentallab.net
X-WR-CALDESC:Events for The Dental Lab
REFRESH-INTERVAL;VALUE=DURATION:PT1H
X-Robots-Tag:noindex
X-PUBLISHED-TTL:PT1H
BEGIN:VTIMEZONE
TZID:America/New_York
BEGIN:DAYLIGHT
TZOFFSETFROM:-0500
TZOFFSETTO:-0400
TZNAME:EDT
DTSTART:20260308T070000
END:DAYLIGHT
BEGIN:STANDARD
TZOFFSETFROM:-0400
TZOFFSETTO:-0500
TZNAME:EST
DTSTART:20261101T060000
END:STANDARD
END:VTIMEZONE
BEGIN:VEVENT
DTSTART;TZID=America/New_York:20260429T173000
DTEND;TZID=America/New_York:20260429T200000
DTSTAMP:20260424T081632
CREATED:20260320T213348Z
LAST-MODIFIED:20260320T221110Z
UID:10000022-1777483800-1777492800@thedentallab.net
SUMMARY:2-CE IN PERSON EVENT: "Simplification of Implant Restoration and Tissue Contouring Using an Innovative Digital Solution" with Dr. Alan Scott Douglas and The Dental Lab Wichita (KS)
DESCRIPTION:Course Description\nIn today’s fast-paced clinical environment\, both patients and clinicians expect efficient\, streamlined treatment. For single-tooth replacement\, this can be achieved by leveraging the latest digital technologies to enhance both surgical and prosthetic workflows. \nThis course explores a modern solution that integrates intraoral scans with CBCT data to improve diagnosis\, treatment planning\, and execution of implant cases. Attendees will learn how this approach supports the design and production of custom healing abutments\, as well as temporary and final restorations—resulting in greater efficiency\, precision\, and predictability. \nJoin us to discover how digital innovation is simplifying implant placement and restoration. \nRegister Now\nhttps://web.cvent.com/event/4eb75aaa-cf85-41e4-ab6c-54d8d5fa4ee1/summary \n\nLearning Objectives\nAt the completion of this course\, participants will be able to: \n\n\nUnderstand the role of CBCT and intraoral scan data in implant treatment planning \n\n\nExplain the simplified workflow for planning and approving implant position and restorative contours \n\n\nRecognize the importance of early tissue training \n\n\nDifferentiate indications for custom healing abutments vs. immediate temporization \n\n\nUtilize a digital core file to design and mill the final crown \n\n\nIdentify the benefits of screw-retained restorations with angulated screw access \n\n\n\nEvent Details\nDate & TimeApril 29\, 20265:30 PM – 8:00 PM \nLocationRiver City Brewing Co. – Barrel Room150 N. MosleyWichita\, KS 67202 \n\nTuition & CE\n$50 Registration Fee2 CE Credits
URL:https://thedentallab.net/course/2-ce-in-person-event-wichita-ks-simplification-of-implant-restoration-and-tissue-contouring-using-an-innovative-digital-solution-with-dr-alan-scott-douglas-and-the-dental-lab/
LOCATION:River City Brewing Co. / Barrel Room 150 N. Mosley Wichita\, KS 67202\, 15 N. Mosley\, Wichita\, KS\, 67202
ATTACH;FMTTYPE=application/pdf:https://thedentallab.net/wp-content/uploads/2026/03/04.29.26-Douglas-Wichita-KS.pdf
END:VEVENT
BEGIN:VEVENT
DTSTART;TZID=America/New_York:20260519T173000
DTEND;TZID=America/New_York:20260519T200000
DTSTAMP:20260424T081632
CREATED:20260314T234803Z
LAST-MODIFIED:20260326T165802Z
UID:10000017-1779211800-1779220800@thedentallab.net
SUMMARY:2-CE IN PERSON EVENT: "Digital Impression Protocols and Immediate Provisionalization in the Aesthetic Zone" with Wayne Szara at The Dental Lab Bristol (PA)
DESCRIPTION:Event Title:Digital Impression Protocols and Immediate Provisionalization in the Aesthetic Zone: From Treatment Planning to Patient-Specific CAD/CAM Abutments \n\nEvent Description:This program integrates immediate provisional restoration principles in the aesthetic zone with a simplified digital impression protocol for fabricating patient-specific CAD/CAM abutments. \nParticipants will review case selection\, loading concepts\, soft tissue management\, and impression techniques using intraoral scanning or conventional methods. Emphasis is placed on CAD/CAM abutment design\, laboratory communication\, and streamlined digital workflows that enhance precision\, efficiency\, and patient comfort while supporting predictable aesthetic implant outcomes. \n\nLearning ObjectivesAt the completion of the program\, participants should be able to: \n\nEvaluate clinical data for treatment planning single-tooth implants in the aesthetic zone\nDifferentiate between stock\, custom\, Ti-Base\, and CAD/CAM abutments\nDistinguish immediate loading from immediate non-occlusal loading\nApply a simplified digital or conventional impression protocol\nDesign patient-specific CAD/CAM abutments using a digital workflow\nFabricate provisional restorations that support peri-implant soft tissue architecture\nImprove clinician-laboratory collaboration for predictable outcomes\n\n\nDate:Tuesday\, May 19\, 2026 \nTime:Registration and dinner (come hungry!): 5:30 PMSeminar: 6:00 PM – 8:00 PM \n\nLocation:The Dental Lab100 Wood StreetBristol\, PA 19007 \n\nRegistration Link:https://education.zimvie.com/events/course:4180998_4275693 \nRegistrations are first-come\, first-served as seating is limited. \n\nCost:Complimentary (Program valued at $100) \n\nCE Credits:2 Lecture Credits \n\nInstructor:Wayne Szara\, CDT\, Clinical Education Manager\, ZimVie Dental \nWayne Szara is a Clinical Education Manager with ZimVie Dental and a CDT with over 35 years of experience in the dental industry. A graduate of Triton College and Southern Illinois University\, he holds degrees in dental technology and vocational education. \nWayne has extensive experience in laboratory procedures and is known for presenting complex concepts in a clear and engaging way. For over 22 years\, he has led seminars across North America and internationally\, covering implants and implant prosthetics for oral surgeons\, periodontists\, general dentists\, denturists\, dental technicians\, and patients. \nHe is a published author with articles in peer-reviewed journals and has been recognized by the military for his contributions to professional development programs. He has also worked with Sterngold and 3M ESPE.
URL:https://thedentallab.net/course/implant-ce-bristol-pa-digital-impression-cad-cam/
LOCATION:The Dental Lab Bristol (PA)\, 100 Wood Street\, Bristol\, PA\, 19007
ATTACH;FMTTYPE=application/pdf:https://thedentallab.net/wp-content/uploads/2026/03/EDU6377-Digital-Impression-Protocols-and-Immediate-Provisionalization-in-the-Aesthetic-Zone._05.19.26_Szara.pdf
ORGANIZER;CN="The Dental Lab":MAILTO:info@thedentallab.net
END:VEVENT
BEGIN:VEVENT
DTSTART;TZID=America/New_York:20260520T173000
DTEND;TZID=America/New_York:20260520T200000
DTSTAMP:20260424T081632
CREATED:20260314T234914Z
LAST-MODIFIED:20260326T170244Z
UID:10000018-1779298200-1779307200@thedentallab.net
SUMMARY:2-CE IN PERSON EVENT: "Digital Impression Protocols and Immediate Provisionalization in the Aesthetic Zone" with Wayne Szara at The Dental Lab West Berlin (NJ)
DESCRIPTION:Event Title:Digital Impression Protocols and Immediate Provisionalization in the Aesthetic Zone: From Treatment Planning to Patient-Specific CAD/CAM Abutments \n\nEvent Description:This program integrates immediate provisional restoration principles in the aesthetic zone with a simplified digital impression protocol for fabricating patient-specific CAD/CAM abutments. \nParticipants will review case selection\, loading concepts\, soft tissue management\, and impression techniques using intraoral scanning or conventional methods. Emphasis is placed on CAD/CAM abutment design\, laboratory communication\, and streamlined digital workflows that enhance precision\, efficiency\, and patient comfort while supporting predictable aesthetic implant outcomes. \n\nLearning Objectives:At the completion of the program\, participants should be able to: \n\nEvaluate clinical data for treatment planning single-tooth implants in the aesthetic zone\nDifferentiate between stock\, custom\, Ti-Base\, and CAD/CAM abutments\nDistinguish immediate loading from immediate non-occlusal loading\nApply a simplified digital or conventional impression protocol\nDesign patient-specific CAD/CAM abutments using a digital workflow\nFabricate provisional restorations that support peri-implant soft tissue architecture\nImprove clinician-laboratory collaboration for predictable outcomes\n\n\nDate:Wednesday\, May 20\, 2026 \nTime:Registration and dinner (come hungry!): 5:30 PMSeminar: 6:00 PM – 8:00 PM \n\nLocation:The Dental Lab West Berlin155 Bradford DriveWest Berlin\, NJ 08091 \n\nRegistration Link:https://education.zimvie.com/events/course:4180998_4275693 \nRegistrations are first-come\, first-served as seating is limited. \n\nCost:Complimentary (Program valued at $100) \n\nCE Credits:2 Lecture Credits \n\nInstructor:Wayne Szara\, CDT\, Clinical Education Manager\, ZimVie Dental \nWayne Szara is a Clinical Education Manager with ZimVie Dental and a CDT with over 35 years of experience in the dental industry. A graduate of Triton College and Southern Illinois University\, he holds degrees in dental technology and vocational education. \nWayne has extensive experience in laboratory procedures and is known for presenting complex concepts in a clear and engaging way. For over 22 years\, he has led seminars across North America and internationally\, covering implants and implant prosthetics for oral surgeons\, periodontists\, general dentists\, denturists\, dental technicians\, and patients. \nHe is a published author with articles in peer-reviewed journals and has been recognized by the military for his contributions to professional development programs. He has also worked with Sterngold and 3M ESPE.
URL:https://thedentallab.net/course/implant-ce-west-berlin-nj-digital-impression-cad-cam/
LOCATION:The Dental Lab West Berlin (NJ)\, 155 Bradford Dr\, West Berline\, NJ\, 08091
ATTACH;FMTTYPE=application/pdf:https://thedentallab.net/wp-content/uploads/2026/03/EDU6408-EDU6377-Digital-Impression-Protocols-and-Immediate-Provisionalization-in-the-Aesthetic-Zone._05.20.26_Szara-1.pdf
END:VEVENT
BEGIN:VEVENT
DTSTART;TZID=America/New_York:20260602T173000
DTEND;TZID=America/New_York:20260602T210000
DTSTAMP:20260424T081632
CREATED:20260415T130054Z
LAST-MODIFIED:20260416T232453Z
UID:10000024-1780421400-1780434000@thedentallab.net
SUMMARY:3-CE IN PERSON EVENT: "Immediate Full-Arch Rehabilitation" with Wayne Szara of ZimVie and The Dental Lab Wichita (KS)
DESCRIPTION:Event Title:Immediate Full-Arch Rehabilitation \n\nEvent Description:Patients with debilitated dentition often seek rehabilitation to quickly regain their confidence and quality of life. Immediate full-arch restoration can be an excellent solution for meeting patient demands and expectations. \nThis program will provide an overview of this treatment modality\, including a step-by-step\, practical approach to delivering a provisional full-arch prosthesis on the day of implant placement\, as well as the steps necessary to develop an aesthetic\, functional\, definitive prosthesis. \n\nLearning ObjectivesAt the completion of the program\, participants should be able to: \n\nReview the features and clinical applications of the new Universal Multi Unit Abutment\nExplore available restorative options\, with a focus on digital workflows to enhance efficiency and accuracy\nUnderstand how these innovations support both fixed and removable full-arch solutions\nLearn how RealGUIDE™ software streamlines the digital design process\nDiscover the advantages of digitally designing restorations including hybrid prostheses\nExplore the Split Bar process\, a new technique that improves precision and flexibility in hybrid-supported restorations\n\n\nDate:Tuesday\, June 2\, 2026 \n\nTime:Registration: 5:30 PMSeminar: 6:00 PM – 9:00 PM \n\nLocation:Deano’s on Pier 37 WEST 7337 W. 37th St. N Wichita\, KS 67205  \n\nRegistration Link:https://education.zimvie.com/events/course:4336001_4432481 \nRegistrations are available on a first-come\, first-served basis as seating is limited. \n\nCost:Complimentary (Program valued at $150) \n\nCE Credits:3 Lecture Credits \n\nInstructor:Wayne Szara\, CDT\, Clinical Education Manager\, ZimVie Dental \nWayne Szara is a Clinical Education Manager with ZimVie Dental and a CDT with over 35 years of experience in the dental industry. A graduate of Triton College and Southern Illinois University\, he holds degrees in dental technology and vocational education. \nWayne has a broad knowledge of laboratory procedures and presents complex concepts in a clear and engaging manner. For over 22 years\, he has led seminars across North America and internationally\, covering implants and implant prosthetics for oral surgeons\, periodontists\, general dentists\, denturists\, dental technicians\, and patients. \nHe is a published author with articles in peer-reviewed journals and has been recognized by the military as an outstanding seminar leader. He has also worked with Sterngold and 3M ESPE.
URL:https://thedentallab.net/course/3-ce-in-person-event-immediate-full-arch-rehabilitation-with-wayne-szara-of-zimvie-and-the-dental-lab-wichita-ks-2/
LOCATION:Deano’s on Pier 37 WEST\, 7337 W 37th St N\, Wichita\, KS\, 67205
ATTACH;FMTTYPE=image/png:https://thedentallab.net/wp-content/uploads/2026/04/Screenshot-2026-04-15-at-9.00.20-AM.webp
ORGANIZER;CN="The Dental Lab":MAILTO:info@thedentallab.net
END:VEVENT
BEGIN:VEVENT
DTSTART;TZID=America/New_York:20260603T173000
DTEND;TZID=America/New_York:20260603T210000
DTSTAMP:20260424T081632
CREATED:20260413T152110Z
LAST-MODIFIED:20260413T152110Z
UID:10000023-1780507800-1780520400@thedentallab.net
SUMMARY:3-CE IN PERSON EVENT: "Immediate Full-Arch Rehabilitation" with Wayne Szara of ZimVie and The Dental Lab Wichita (KS)
DESCRIPTION:Event Title:Immediate Full-Arch Rehabilitation \n\nEvent Description:Patients with debilitated dentition often seek rehabilitation to quickly regain their confidence and quality of life. Immediate full-arch restoration can be an excellent solution for meeting patient demands and expectations. \nThis program will provide an overview of this treatment modality\, including a step-by-step\, practical approach to delivering a provisional full-arch prosthesis on the day of implant placement\, as well as the steps necessary to develop an aesthetic\, functional\, definitive prosthesis. \n\nLearning ObjectivesAt the completion of the program\, participants should be able to: \n\nReview the features and clinical applications of the new Universal Multi Unit Abutment\nExplore available restorative options\, with a focus on digital workflows to enhance efficiency and accuracy\nUnderstand how these innovations support both fixed and removable full-arch solutions\nLearn how RealGUIDE™ software streamlines the digital design process\nDiscover the advantages of digitally designing restorations including hybrid prostheses\nExplore the Split Bar process\, a new technique that improves precision and flexibility in hybrid-supported restorations\n\n\nDate:Tuesday\, June 3\, 2026 \n\nTime:Registration: 5:30 PMSeminar: 6:00 PM – 9:00 PM \n\nLocation:Jose Pepper’s123 S. Santa Fe AveSalina\, KS 67401 \n\nRegistration Link:https://education.zimvie.com/events/course:4336001_4432481 \nRegistrations are available on a first-come\, first-served basis as seating is limited. \n\nCost:Complimentary (Program valued at $150) \n\nCE Credits:3 Lecture Credits \n\nInstructor:Wayne Szara\, CDT\, Clinical Education Manager\, ZimVie Dental \nWayne Szara is a Clinical Education Manager with ZimVie Dental and a CDT with over 35 years of experience in the dental industry. A graduate of Triton College and Southern Illinois University\, he holds degrees in dental technology and vocational education. \nWayne has a broad knowledge of laboratory procedures and presents complex concepts in a clear and engaging manner. For over 22 years\, he has led seminars across North America and internationally\, covering implants and implant prosthetics for oral surgeons\, periodontists\, general dentists\, denturists\, dental technicians\, and patients. \nHe is a published author with articles in peer-reviewed journals and has been recognized by the military as an outstanding seminar leader. He has also worked with Sterngold and 3M ESPE.
URL:https://thedentallab.net/course/3-ce-in-person-event-immediate-full-arch-rehabilitation-with-wayne-szara-of-zimvie-and-the-dental-lab-wichita-ks/
LOCATION:Jose Pepper’s\, 123 S Santa Fe Ave\, Salina\, KS\, 67401
ATTACH;FMTTYPE=image/png:https://thedentallab.net/wp-content/uploads/2026/04/Screenshot-2026-04-13-at-11.17.53-AM.webp
ORGANIZER;CN="The Dental Lab":MAILTO:info@thedentallab.net
END:VEVENT
BEGIN:VEVENT
DTSTART;TZID=America/New_York:20260610T190000
DTEND;TZID=America/New_York:20260610T200000
DTSTAMP:20260424T081632
CREATED:20251128T000441Z
LAST-MODIFIED:20260415T191435Z
UID:10000013-1781118000-1781121600@thedentallab.net
SUMMARY:1-CE WEBINAR: "Case Planning Strategies for Predictable Implant and Denture Outcomes" with Dr. Jon Ruel and The Dental Lab
DESCRIPTION:PRESENTER: Dr. Jon  Ruel \nSuccessful full-arch rehabilitation—whether fixed or fixed-removable—requires precise coordination between the clinician and the dental laboratory. Treatment planning is not a single decision point\, but a structured\, collaborative workflow that integrates diagnostics\, prosthetic design\, implant positioning\, biomechanics\, esthetics\, and long-term maintenance. \nThis course explores how aligning clinical and laboratory protocols improves restorative predictability\, minimizes complications\, and supports consistent\, long-term outcomes. Emphasis is placed on prosthetically driven planning\, case selection\, and the critical role of the laboratory in guiding restorative feasibility and design. \n\nLearning Objectives: \n\nExplain the principles of prosthetically driven implant planning in full-arch rehabilitation\nIdentify key factors influencing case selection between fixed and fixed-removable solutions\nDescribe the laboratory’s role in the diagnostic phase\, including evaluation of restorative feasibility through diagnostic setups\nAssess the impact of AP spread on cantilever length and biomechanical stability\nApply a coordinated clinical-laboratory workflow to improve predictability and reduce restorative complications\n\nThis 1-CE event is a webinar. \nREGISTER HERE: https://attendee.gotowebinar.com/register/6003337240898496857 \nFor more information\, please email info@thedentallab.net
URL:https://thedentallab.net/course/dental-lab-communication-with-the-dental-lab-and-sterngold/
LOCATION:Online
CATEGORIES:All Events
ATTACH;FMTTYPE=image/png:https://thedentallab.net/wp-content/uploads/2025/11/Screenshot-2026-04-15-at-3.09.31-PM.webp
ORGANIZER;CN="The Dental Lab":MAILTO:info@thedentallab.net
END:VEVENT
BEGIN:VEVENT
DTSTART;VALUE=DATE:20260612
DTEND;VALUE=DATE:20260614
DTSTAMP:20260424T081632
CREATED:20260314T234334Z
LAST-MODIFIED:20260413T143850Z
UID:10000016-1781222400-1781395199@thedentallab.net
SUMMARY:39-CE IN PERSON EVENT: Zest Masters "Full Arch Education" (in Atlantic City\, NJ) with The Dental Lab and Drs. Scherer\, Massad\, Saab\, Little & Olsen
DESCRIPTION:Event Title\nZestMasters Full-Arch Certification Program | Atlantic City\, NJ \nZestMasters Full-Arch Certification Program\n\nRegister Now\nhttps://education.zestdent.com/events/zestdental/2057155?_gl=1*1n7ongs*_gcl_au*MTAyOTkxMDIxMy4xNzc0NTQ1MjM3*_ga*Njg5Nzk3MTM2LjE3NzQ1NDUyMzc.*_ga_85TTPF159V*czE3NzYwODk5MDEkbzIkZzEkdDE3NzYwODk5MjYkajM1JGwwJGgwJGRndndEZVY1MWRkeGhNejB5bTJJdjIyVWQ1bjc4MkxKVXVRhttps://zest.pub/zestmasters \n\nEvent Summary\nThe Dental Lab has partnered with Zest Dental Solutions to provide our doctors preferred access and an exclusive $1\,500 discount to the ZestMasters Full-Arch Certification Program. This two-day intensive training is designed for clinicians looking to expand into full-arch treatment and improve outcomes for edentulous and partially edentulous patients. \n\nEvent Description\nFull-arch treatment is one of the fastest-growing areas in dentistry\, requiring the right training\, workflow\, and clinical confidence to achieve predictable results. \nThrough our partnership with Zest Dental Solutions\, The Dental Lab is pleased to offer our doctors preferred access and a $1\,500 discount to the ZestMasters Full-Arch Certification Program\, held June 12–13 in Atlantic City\, New Jersey. \nThis two-day intensive program is designed for clinicians who want to elevate their practice and strengthen their approach to full-arch treatment. Attendees will learn directly from leading clinicians and gain hands-on experience with LOCATOR and LOCATOR FIXED workflows. The course focuses on building a practical\, repeatable system for treating partial and fully edentulous patients. \nParticipants may earn up to 39 CE credits and will have the opportunity to achieve Zest Mastership Certification. \n\nWhat’s Included\n\n\nUp to 39 CE credits \n\n\nTwo-day intensive hands-on training \n\n\nExclusive online CE access \n\n\nDirect instruction from experienced faculty \n\n\nZest Mastership Certification \n\n\nPractical\, repeatable full-arch workflows \n\n\n\nFaculty\nFaculty is subject to availability and may include: \n\n\nMichael D. Scherer\, DMD\, MS \n\n\nJoseph J. Massad\, DDS \n\n\nXavier Saab\, DDS\, MS \n\n\nDavid Little\, DDS \n\n\nKelly Olsen\, DDS \n\n\n\nEvent Details\nDatesJune 12–13 \nLocationBorgata Hotel Casino & Spa1 Borgata WayAtlantic City\, NJ 08401 \nCourse FormatLecture and Hands-On \nCE HoursUp to 39 \n\nTuition\n\n\nDentist Registration: $4\,350 \n\n\nAssistant / Office Team: $500 (limit one per dentist) \n\n\n\nSpecial Offer for The Dental Lab Doctors\nUse code TDLATLANTIC to receive $1\,500 off registration. \n 
URL:https://thedentallab.net/course/zest-masters-full-arch-education-with-drs-scherer-massad-saab-little-olsen/
LOCATION:Borgata\, 1 Borgata Way\, Atlantic City\, NJ\, 08401
ATTACH;FMTTYPE=image/png:https://thedentallab.net/wp-content/uploads/2026/03/Screenshot-2026-04-13-at-10.29.22-AM.webp
END:VEVENT
BEGIN:VEVENT
DTSTART;TZID=America/New_York:20260916T190000
DTEND;TZID=America/New_York:20260916T200000
DTSTAMP:20260424T081632
CREATED:20260316T195752Z
LAST-MODIFIED:20260320T220231Z
UID:10000020-1789585200-1789588800@thedentallab.net
SUMMARY:1-CE WEBINAR: "More Patients\, More Production: Marketing Strategies for Today’s Dental Practice" with The Dental Lab and marketing expert\, Brett Allen\, of Marketing 32
DESCRIPTION:In today’s competitive dental landscape\, clinical excellence alone is not enough to grow a thriving practice. Effective marketing is essential to attract new patients\, strengthen your reputation\, and keep your schedule full. \nIn this course\, marketing expert Brett Allen of Marketing 32 will share proven strategies that help dental practices stand out in their local markets and convert online visibility into real patient appointments. Participants will gain insight into how modern dental marketing can work for clinicians. \nDesigned specifically for dentists and practice teams\, this program will focus on practical\, real-world strategies to increase patient flow\, maximize chair time\, and support long-term practice success. \nRegistration for this webinar is not yet open. Stay tuned!
URL:https://thedentallab.net/course/more-patients-more-production-marketing-strategies-for-todays-dental-practice-webinar/
LOCATION:KS
ATTACH;FMTTYPE=image/png:https://thedentallab.net/wp-content/uploads/2026/03/Screenshot-2026-03-16-at-3.48.36-PM.webp
END:VEVENT
BEGIN:VEVENT
DTSTART;TZID=America/New_York:20261014T190000
DTEND;TZID=America/New_York:20261014T200000
DTSTAMP:20260424T081632
CREATED:20260318T140150Z
LAST-MODIFIED:20260318T140253Z
UID:10000021-1792004400-1792008000@thedentallab.net
SUMMARY:1-CE WEBINAR: "Integrating Dental Sleep Medicine" with The Dental Lab and dental sleep medicine expert\, Dr. Pankaj Singh
DESCRIPTION:October 14 | 7:00 PM ET | 1-Hour Webinar \nJoin The Dental Lab for an exclusive webinar featuring Dr. Singh\, a distinguished dental surgeon with decades of experience in clinical excellence and patient-centered care. Dr. Singh’s work extends beyond traditional dentistry\, integrating advanced surgical techniques and interdisciplinary approaches to improve patient outcomes. \nHe holds multiple prestigious board certifications\, including: \n\n\nDiplomate of the American Board of Dental Sleep Medicine \n\n\nAmerican Board of Oral Implantology \n\n\nAmerican Sleep and Breathing Academy \n\n\nInternational Congress of Oral Implantology \n\n\nDiscover how integrating Dental Sleep Medicine and TMJ therapy can elevate patient care\, diversify revenue\, and reduce reliance on traditional dental insurance. \n\nWhat You’ll Learn\n\n\nThe dentist’s role in managing sleep-disordered breathing and TMJ disorders \n\n\nHow to strategically integrate these services into a high-performing practice \n\n\nMedical insurance billing fundamentals to support appropriate reimbursement \n\n\nScalable workflows that maintain clinical excellence \n\n\n\nRegistration is not yet open for this 1-CE webinar. Stay tuned! \n \nDr. Pankaj Singh\, dental sleep medicine expert and founder/CSO of appnea
URL:https://thedentallab.net/course/dental-sleep-medicine-webinar/
LOCATION:Online
ATTACH;FMTTYPE=image/png:https://thedentallab.net/wp-content/uploads/2026/03/Screenshot-2026-03-18-at-9.56.51-AM.webp
ORGANIZER;CN="The Dental Lab":MAILTO:info@thedentallab.net
END:VEVENT
END:VCALENDAR